BEGIN:VCALENDAR
VERSION:2.0
PRODID:-//TG-Niedernhausen//NONSGML kigkonsult.se iCalcreator 2.30.10//
CALSCALE:GREGORIAN
METHOD:PUBLISH
UID:84850bbc-61ec-4194-ba74-710eb64c6992
X-WR-CALNAME:iCagenda
X-WR-CALDESC:Event Management Extension for Joomla!
X-WR-RELCALID:3E26604A-50F4-4449-8B3E-E4F4932D05B5
X-WR-TIMEZONE:UTC
BEGIN:VTIMEZONE
TZID:UTC
END:VTIMEZONE
BEGIN:VEVENT
UID:0726789c-97a0-403d-bae9-21a41c880db5
DTSTAMP:20260422T053145Z
CATEGORIES:Verein
CLASS:PUBLIC
DESCRIPTION:
DTSTART:20240526T110000Z
DTEND:20240526T130000Z
GEO:00;0
LOCATION:
ORGANIZER:
SEQUENCE:1
SUMMARY:DOSB-Sportabzeichenabnahme mit Monika Hüttel
TRANSP:OPAQUE
URL:https://www.tg-niedernhausen.de/component/icagenda/dosb-sportabzeichena
 bnahme-mit-monika-huettel-2?Itemid=101
END:VEVENT
END:VCALENDAR
