BEGIN:VCALENDAR
VERSION:2.0
PRODID:-//TG-Niedernhausen//NONSGML kigkonsult.se iCalcreator 2.30.10//
CALSCALE:GREGORIAN
METHOD:PUBLISH
UID:e08c0e9d-c1cc-4d74-8cc7-b53f63d8cdae
X-WR-CALNAME:iCagenda
X-WR-CALDESC:Event Management Extension for Joomla!
X-WR-RELCALID:3E26604A-50F4-4449-8B3E-E4F4932D05B5
X-WR-TIMEZONE:UTC
BEGIN:VTIMEZONE
TZID:UTC
END:VTIMEZONE
BEGIN:VEVENT
UID:b0a3d5d1-fc72-45f8-a7b6-d62035008900
DTSTAMP:20260421T203221Z
CATEGORIES:Verein
CLASS:PUBLIC
DESCRIPTION:
DTSTART:20240420T110000Z
DTEND:20240420T130000Z
GEO:00;0
LOCATION:
ORGANIZER:
SEQUENCE:1
SUMMARY:DOSB-Sportabzeichenabnahme mit Monika Hüttel
TRANSP:OPAQUE
URL:https://www.tg-niedernhausen.de/component/icagenda/dosb-sportabzeichena
 bnahme-mit-monika-huettel?Itemid=101
END:VEVENT
END:VCALENDAR
