Workbook

Sheet Tabelle1
B1: Turngemeinde Niedernhausen 1896 e. V.
B2: Nachweis über Auslagen
B4: Name: | E4: Kilometersatz: | F4: 0.3
B5: Gruppe: | E5: Erstattung Gesamt: | F5: =I23 -> 0
B6: IBAN: | E6: Bank:
B8: Datum | C8: Abrechnungsgrund (Bitte auswählen) | D8: Beschreibung/ Anmerkungen | E8: Ausgangsort - Ziel (bei Fahrtkosten zu füllen) | F8: Entfernung in km | G8: Pauschale | H8: Sonstiges | I8: Erstattung
G9: =IF(Tabelle1!$C9="Betreuungspauschale","15,00 €",0) -> 0 | I9: =Tabelle1!$F9*$F$4+Tabelle1!$G9+Tabelle1[[#This Row],[Sonstiges]] -> 0 | M9: Fahrtkosten
G10: =IF(Tabelle1!$C10="Betreuungspauschale","15,00 €",0) -> 0 | I10: =Tabelle1!$F10*$F$4+Tabelle1!$G10+Tabelle1[[#This Row],[Sonstiges]] -> 0 | M10: Betreuungspauschale
G11: =IF(Tabelle1!$C11="Betreuungspauschale","15,00 €",0) -> 0 | I11: =Tabelle1!$F11*$F$4+Tabelle1!$G11+Tabelle1[[#This Row],[Sonstiges]] -> 0 | M11: Sonstige Auslagen
G12: =IF(Tabelle1!$C12="Betreuungspauschale","15,00 €",0) -> 0 | I12: =Tabelle1!$F12*$F$4+Tabelle1!$G12+Tabelle1[[#This Row],[Sonstiges]] -> 0
G13: =IF(Tabelle1!$C13="Betreuungspauschale","15,00 €",0) -> 0 | I13: =Tabelle1!$F13*$F$4+Tabelle1!$G13+Tabelle1[[#This Row],[Sonstiges]] -> 0
G14: =IF(Tabelle1!$C14="Betreuungspauschale","15,00 €",0) -> 0 | I14: =Tabelle1!$F14*$F$4+Tabelle1!$G14+Tabelle1[[#This Row],[Sonstiges]] -> 0
G15: =IF(Tabelle1!$C15="Betreuungspauschale","15,00 €",0) -> 0 | I15: =Tabelle1!$F15*$F$4+Tabelle1!$G15+Tabelle1[[#This Row],[Sonstiges]] -> 0
G16: =IF(Tabelle1!$C16="Betreuungspauschale","15,00 €",0) -> 0 | I16: =Tabelle1!$F16*$F$4+Tabelle1!$G16+Tabelle1[[#This Row],[Sonstiges]] -> 0
G17: =IF(Tabelle1!$C17="Betreuungspauschale","15,00 €",0) -> 0 | I17: =Tabelle1!$F17*$F$4+Tabelle1!$G17+Tabelle1[[#This Row],[Sonstiges]] -> 0
G18: =IF(Tabelle1!$C18="Betreuungspauschale","15,00 €",0) -> 0 | I18: =Tabelle1!$F18*$F$4+Tabelle1!$G18+Tabelle1[[#This Row],[Sonstiges]] -> 0
G19: =IF(Tabelle1!$C19="Betreuungspauschale","15,00 €",0) -> 0 | I19: =Tabelle1!$F19*$F$4+Tabelle1!$G19+Tabelle1[[#This Row],[Sonstiges]] -> 0
G20: =IF(Tabelle1!$C20="Betreuungspauschale","15,00 €",0) -> 0 | I20: =Tabelle1!$F20*$F$4+Tabelle1!$G20+Tabelle1[[#This Row],[Sonstiges]] -> 0
G21: =IF(Tabelle1!$C21="Betreuungspauschale","15,00 €",0) -> 0 | I21: =Tabelle1!$F21*$F$4+Tabelle1!$G21+Tabelle1[[#This Row],[Sonstiges]] -> 0
G22: =IF(Tabelle1!$C22="Betreuungspauschale","15,00 €",0) -> 0 | I22: =Tabelle1!$F22*$F$4+Tabelle1!$G22+Tabelle1[[#This Row],[Sonstiges]] -> 0
I23: =SUBTOTAL(109,Tabelle1!$I$9:$I$22) -> 0
B25: Über das Dropdown-Menü der Spalte Abrechnungsgrund kann zwischen Fahrtkosten, Betreuungspauschale und Sonstige Auslagen gewählt werden.
B27: Ich versichere die Richtigkeit meiner Angaben.
B29: Niedernhausen,
C30: (Datum) | E30: (Unterschrift d. Antragsteller/in)
B32: Festgestellt: | E32: Angewiesen:
C35: (1. Vorsitzender/Abteilungsleiter, Datum) | F35: (Kassenwart, Datum)
